BEGIN:VCALENDAR
VERSION:2.0
PRODID:-//UKSPA - ECPv6.5.0//NONSGML v1.0//EN
CALSCALE:GREGORIAN
METHOD:PUBLISH
X-ORIGINAL-URL:https://www.ukspa.org.uk
X-WR-CALDESC:Events for UKSPA
REFRESH-INTERVAL;VALUE=DURATION:PT1H
X-Robots-Tag:noindex
X-PUBLISHED-TTL:PT1H
BEGIN:VTIMEZONE
TZID:UTC
BEGIN:STANDARD
TZOFFSETFROM:+0000
TZOFFSETTO:+0000
TZNAME:UTC
DTSTART:20260101T000000
END:STANDARD
END:VTIMEZONE
BEGIN:VEVENT
DTSTART;TZID=UTC:20260608T080000
DTEND;TZID=UTC:20260610T170000
DTSTAMP:20260423T153114
CREATED:20260331T151242Z
LAST-MODIFIED:20260331T151242Z
UID:25415-1780905600-1781110800@www.ukspa.org.uk
SUMMARY:Knowledge Exchange UK Conference 2026
DESCRIPTION:Join leading experts\, practitioners\, and policymakers to explore\, connect\, and shape the future of knowledge exchange. Be part of the conversations and collaborations that will drive transformative impact for years to come.
URL:https://www.ukspa.org.uk/event/knowledge-exchange-uk-conference-2026/
LOCATION:ICC Wales Coldra Wood\, Caerleon Newport
CATEGORIES:Industry Events
END:VEVENT
BEGIN:VEVENT
DTSTART;TZID=UTC:20260608T080000
DTEND;TZID=UTC:20260612T170000
DTSTAMP:20260423T153114
CREATED:20260331T154030Z
LAST-MODIFIED:20260331T154030Z
UID:25418-1780905600-1781283600@www.ukspa.org.uk
SUMMARY:London Tech Week
DESCRIPTION:Each June at Olympia London\, London Tech Week brings together the brightest minds\, visionary leaders\, and cutting-edge solutions to shape the future of business Join London Tech Week  in exploring transformative ideas\, connecting with global influencers\, and discovering the technologies that will redefine industries. Whether you’re an entrepreneur\, executive\, or innovator\, London Tech Week is your gateway to the insights\, connections and opportunities that power growth.
URL:https://www.ukspa.org.uk/event/london-tech-week/
LOCATION:Olympia London
CATEGORIES:Industry Events
END:VEVENT
END:VCALENDAR