BEGIN:VCALENDAR
VERSION:2.0
PRODID:-//UKSPA - ECPv6.5.0//NONSGML v1.0//EN
CALSCALE:GREGORIAN
METHOD:PUBLISH
X-ORIGINAL-URL:https://www.ukspa.org.uk
X-WR-CALDESC:Events for UKSPA
REFRESH-INTERVAL;VALUE=DURATION:PT1H
X-Robots-Tag:noindex
X-PUBLISHED-TTL:PT1H
BEGIN:VTIMEZONE
TZID:UTC
BEGIN:STANDARD
TZOFFSETFROM:+0000
TZOFFSETTO:+0000
TZNAME:UTC
DTSTART:20260101T000000
END:STANDARD
END:VTIMEZONE
BEGIN:VEVENT
DTSTART;TZID=UTC:20260519T080000
DTEND;TZID=UTC:20260521T170000
DTSTAMP:20260423T135802
CREATED:20260330T113501Z
LAST-MODIFIED:20260330T113501Z
UID:25402-1779177600-1779382800@www.ukspa.org.uk
SUMMARY:UKREiiF
DESCRIPTION:UKREiiF is the UK’s leading forum for real estate\, investment and infrastructure\, bringing together property professionals\, investors\, developers and senior decision-makers from across the UK.
URL:https://www.ukspa.org.uk/event/ukreiif-2/
LOCATION:Royal Armouries and New Dock\, Leeds
CATEGORIES:Industry Events
END:VEVENT
END:VCALENDAR