BEGIN:VCALENDAR
VERSION:2.0
PRODID:-//UKSPA - ECPv6.5.0//NONSGML v1.0//EN
CALSCALE:GREGORIAN
METHOD:PUBLISH
X-WR-CALNAME:UKSPA
X-ORIGINAL-URL:https://www.ukspa.org.uk
X-WR-CALDESC:Events for UKSPA
REFRESH-INTERVAL;VALUE=DURATION:PT1H
X-Robots-Tag:noindex
X-PUBLISHED-TTL:PT1H
BEGIN:VTIMEZONE
TZID:UTC
BEGIN:STANDARD
TZOFFSETFROM:+0000
TZOFFSETTO:+0000
TZNAME:UTC
DTSTART:20260101T000000
END:STANDARD
END:VTIMEZONE
BEGIN:VEVENT
DTSTART;TZID=UTC:20260506T080000
DTEND;TZID=UTC:20260507T170000
DTSTAMP:20260423T102257
CREATED:20260330T111417Z
LAST-MODIFIED:20260330T111654Z
UID:25387-1778054400-1778173200@www.ukspa.org.uk
SUMMARY:London Lab Live
DESCRIPTION:Join the leading marketplace and global benchmark\, for laboratory and analytical excellence. Bringing the lab community under one roof – breaking industry silos to unite 3\,000+ visionaries across Pharma\, Biotech\, Clinical R&D\, Chemical\, Industrial\, F&B and FMCG Labs – to solve the most pressing challenges in automation\, connectivity\, infrastructure\, sustainability and workflow integration.
URL:https://www.ukspa.org.uk/event/london-lab-live/
LOCATION:Excel\, London
CATEGORIES:Industry Events
END:VEVENT
END:VCALENDAR