BEGIN:VCALENDAR
VERSION:2.0
PRODID:-//UKSPA - ECPv6.5.0//NONSGML v1.0//EN
CALSCALE:GREGORIAN
METHOD:PUBLISH
X-WR-CALNAME:UKSPA
X-ORIGINAL-URL:https://www.ukspa.org.uk
X-WR-CALDESC:Events for UKSPA
REFRESH-INTERVAL;VALUE=DURATION:PT1H
X-Robots-Tag:noindex
X-PUBLISHED-TTL:PT1H
BEGIN:VTIMEZONE
TZID:UTC
BEGIN:STANDARD
TZOFFSETFROM:+0000
TZOFFSETTO:+0000
TZNAME:UTC
DTSTART:20260101T000000
END:STANDARD
END:VTIMEZONE
BEGIN:VEVENT
DTSTART;TZID=UTC:20261104T080000
DTEND;TZID=UTC:20261105T170000
DTSTAMP:20260423T201627
CREATED:20260330T114204Z
LAST-MODIFIED:20260330T114314Z
UID:25404-1793779200-1793898000@www.ukspa.org.uk
SUMMARY:Lab Innovations
DESCRIPTION:Lab Innovations is the UK’s leading event dedicated to the laboratory community. For over a decade\, it has connected scientists\, suppliers and innovators to explore the technologies\, ideas and partnerships shaping modern laboratories. Focused on practical progress\, the event brings together learning\, sourcing and networking in one place – built specifically for the people who power UK science.
URL:https://www.ukspa.org.uk/event/lab-innovations-2/
LOCATION:NEC Birmingham\, B40 1NT
CATEGORIES:Industry Events
END:VEVENT
END:VCALENDAR