BEGIN:VCALENDAR
VERSION:2.0
PRODID:-//UKSPA - ECPv6.5.0//NONSGML v1.0//EN
CALSCALE:GREGORIAN
METHOD:PUBLISH
X-ORIGINAL-URL:https://www.ukspa.org.uk
X-WR-CALDESC:Events for UKSPA
REFRESH-INTERVAL;VALUE=DURATION:PT1H
X-Robots-Tag:noindex
X-PUBLISHED-TTL:PT1H
BEGIN:VTIMEZONE
TZID:UTC
BEGIN:STANDARD
TZOFFSETFROM:+0000
TZOFFSETTO:+0000
TZNAME:UTC
DTSTART:20260101T000000
END:STANDARD
END:VTIMEZONE
BEGIN:VEVENT
DTSTART;TZID=UTC:20260702T080000
DTEND;TZID=UTC:20260703T140000
DTSTAMP:20260423T152719
CREATED:20260327T165410Z
LAST-MODIFIED:20260327T165633Z
UID:25377-1782979200-1783087200@www.ukspa.org.uk
SUMMARY:UKSPA Summer Conference 2nd -3rd July 2026\, Norwich Research Park
DESCRIPTION:We are delighted to announce that UKSPA will be holding its Summer Conference at Norwich Research Park. More details including registration will be announced shortly
URL:https://www.ukspa.org.uk/event/ukspa-summer-conference-2nd-3rd-july-2026-norwich-research-park/
LOCATION:Norwich Research Park
CATEGORIES:Industry Events,Member Events,UKSPA
END:VEVENT
BEGIN:VEVENT
DTSTART;TZID=UTC:20260709T120000
DTEND;TZID=UTC:20260709T170000
DTSTAMP:20260423T152719
CREATED:20260330T112235Z
LAST-MODIFIED:20260330T112235Z
UID:25393-1783598400-1783616400@www.ukspa.org.uk
SUMMARY:UK Business Tech Awards
DESCRIPTION:The UK Business Tech Awards celebrate the startups\, scaleups\, incubators\, investors\, and organisations driving innovation across the UK technology ecosystem. With a strong focus on entrepreneurial ambition\, the awards recognise early-stage and high-growth businesses using technology in smart\, impactful ways to disrupt markets\, accelerate growth\, and create meaningful change.
URL:https://www.ukspa.org.uk/event/uk-business-tech-awards/
LOCATION:London Hilton Paddington.
CATEGORIES:Industry Events
END:VEVENT
END:VCALENDAR